BEGIN:VCALENDAR
VERSION:2.0
PRODID:http://www.pfarrei-trier-paulin.de
BEGIN:VEVENT
UID:05f03899-3ec3-11f1-a3e9-0242ac11002b-1785515400000-de
DTSTAMP:20260423T031756Z
DTSTART:20260731T163000Z
DTEND:20260731T173000Z
SUMMARY;LANGUAGE=de:Hl. Messe
URL:http://www.pfarrei-trier-paulin.de/aktuelles/gottesdienste/gottesdienst/Hl.Messe-2026.07.31/
END:VEVENT
END:VCALENDAR
