BEGIN:VCALENDAR
VERSION:2.0
PRODID:http://www.pfarrei-trier-paulin.de
BEGIN:VEVENT
UID:220dd5e2-3943-11f1-a3e9-0242ac11002b-1784910600000-de
DTSTAMP:20260416T031952Z
DTSTART:20260724T163000Z
DTEND:20260724T173000Z
SUMMARY;LANGUAGE=de:Hl. Messe
URL:http://www.pfarrei-trier-paulin.de/aktuelles/gottesdienste/gottesdienst/Hl.Messe-2026.07.24/
END:VEVENT
END:VCALENDAR
