BEGIN:VCALENDAR
VERSION:2.0
PRODID:http://www.pfarrei-trier-paulin.de
BEGIN:VEVENT
UID:6e02e1e9-3f8c-11f1-a3e9-0242ac11002b-1785585600000-de
DTSTAMP:20260424T031939Z
DTSTART:20260801T120000Z
DTEND:20260801T130000Z
SUMMARY;LANGUAGE=de:Trauung der Brautleute Manuel Szabo und Viktoria Szabo geb. Oppenberg
END:VEVENT
END:VCALENDAR
