BEGIN:VCALENDAR
VERSION:2.0
PRODID:http://www.pfarrei-trier-paulin.de
BEGIN:VEVENT
UID:dfa9af42-3d30-11f1-a3e9-0242ac11002b-1785342600000-de
DTSTAMP:20260421T031914Z
DTSTART:20260729T163000Z
DTEND:20260729T173000Z
SUMMARY;LANGUAGE=de:Hl. Messe
URL:http://www.pfarrei-trier-paulin.de/aktuelles/gottesdienste/gottesdienst/Hl.Messe-2026.07.29/
END:VEVENT
END:VCALENDAR
